BEGIN:VCALENDAR
VERSION:2.0
PRODID:-//3nity.com//3nity CMS//EN
BEGIN:VEVENT
SUMMARY:Sunday Service
UID:2026-07-18-1192391@www.varickchapelamzchurch.org
SEQUENCE:0
STATUS:CONFIRMED
DTSTART:20260426T103000
DTEND:20260426T120000
DTSTAMP:20161222T120000
LOCATION: Varick Chapel AME Zion Church AVL, 308 S. French Broad Ave, Asheville, NC 28801
DESCRIPTION:
URL:http://www.varickchapelamzchurch.org
END:VEVENT
END:VCALENDAR
